Package: Pviz Version: 1.38.0 Command: /home/biocbuild/R/R-beta-2024-04-15_r86425/bin/R CMD build --keep-empty-dirs --no-resave-data Pviz StartedAt: 2024-05-09 02:40:57 -0000 (Thu, 09 May 2024) EndedAt: 2024-05-09 02:43:24 -0000 (Thu, 09 May 2024) EllapsedTime: 146.2 seconds RetCode: 0 Status: OK PackageFile: Pviz_1.38.0.tar.gz PackageFileSize: 208.4 KiB