Package: Pviz Version: 1.38.0 Command: /home/biocbuild/R/R-beta-2024-04-15_r86425/bin/R CMD check --install=check:Pviz.install-out.txt --library=/home/biocbuild/R/R-beta-2024-04-15_r86425/site-library --no-vignettes --timings Pviz_1.38.0.tar.gz StartedAt: 2024-05-09 10:49:13 -0000 (Thu, 09 May 2024) EndedAt: 2024-05-09 10:56:20 -0000 (Thu, 09 May 2024) EllapsedTime: 426.7 seconds RetCode: 0 Status: WARNINGS CheckDir: Pviz.Rcheck Warnings: 1