Package: Pviz Version: 1.38.0 Command: rm -rf Pviz.buildbin-libdir && mkdir Pviz.buildbin-libdir && /Users/biocbuild/BBS/utils/build-universal.sh Pviz_1.38.0.tar.gz /Library/Frameworks/R.framework/Resources/bin/R Pviz.buildbin-libdir StartedAt: 2024-06-10 00:33:26 -0400 (Mon, 10 Jun 2024) EndedAt: 2024-06-10 00:35:09 -0400 (Mon, 10 Jun 2024) EllapsedTime: 103.4 seconds RetCode: 0 Status: OK PackageFile: Pviz_1.38.0.tgz PackageFileSize: 665.9 KiB