Package: Pviz Version: 1.38.0 Command: chmod a+r Pviz -R && F:\biocbuild\bbs-3.19-bioc\R\bin\R.exe CMD build --keep-empty-dirs --no-resave-data Pviz StartedAt: 2024-06-26 21:08:39 -0400 (Wed, 26 Jun 2024) EndedAt: 2024-06-26 21:10:45 -0400 (Wed, 26 Jun 2024) EllapsedTime: 125.9 seconds RetCode: 0 Status: OK PackageFile: Pviz_1.38.0.tar.gz PackageFileSize: 198.5 KiB