Package: QFeatures Version: 1.14.2 Command: /Library/Frameworks/R.framework/Resources/bin/R CMD build --keep-empty-dirs --no-resave-data QFeatures StartedAt: 2024-10-17 06:53:58 -0400 (Thu, 17 Oct 2024) EndedAt: 2024-10-17 06:55:38 -0400 (Thu, 17 Oct 2024) EllapsedTime: 99.5 seconds RetCode: 0 Status: OK PackageFile: QFeatures_1.14.2.tar.gz PackageFileSize: 2.848 MiB