Package: QFeatures Version: 1.14.2 Command: /Library/Frameworks/R.framework/Resources/bin/R CMD check --install=check:QFeatures.install-out.txt --library=/Library/Frameworks/R.framework/Resources/library --no-vignettes --timings QFeatures_1.14.2.tar.gz StartedAt: 2024-10-18 08:21:54 -0400 (Fri, 18 Oct 2024) EndedAt: 2024-10-18 08:31:22 -0400 (Fri, 18 Oct 2024) EllapsedTime: 568.4 seconds RetCode: 0 Status: OK CheckDir: QFeatures.Rcheck Warnings: 0