Package: QFeatures Version: 1.14.1 Command: rm -rf QFeatures.buildbin-libdir && mkdir QFeatures.buildbin-libdir && /Users/biocbuild/BBS/utils/build-universal.sh QFeatures_1.14.1.tar.gz /Library/Frameworks/R.framework/Resources/bin/R QFeatures.buildbin-libdir StartedAt: 2024-06-11 12:38:31 -0400 (Tue, 11 Jun 2024) EndedAt: 2024-06-11 12:39:32 -0400 (Tue, 11 Jun 2024) EllapsedTime: 60.7 seconds RetCode: 0 Status: OK PackageFile: QFeatures_1.14.1.tgz PackageFileSize: 3.347 MiB