Package: QFeatures Version: 1.14.1 Command: /Library/Frameworks/R.framework/Resources/bin/R CMD build --keep-empty-dirs --no-resave-data QFeatures StartedAt: 2024-06-10 02:55:08 -0400 (Mon, 10 Jun 2024) EndedAt: 2024-06-10 02:57:06 -0400 (Mon, 10 Jun 2024) EllapsedTime: 117.6 seconds RetCode: 0 Status: OK PackageFile: QFeatures_1.14.1.tar.gz PackageFileSize: 2.849 MiB