Package: QFeatures Version: 1.14.1 Command: /Library/Frameworks/R.framework/Resources/bin/R CMD INSTALL QFeatures StartedAt: 2024-06-09 16:25:42 -0400 (Sun, 09 Jun 2024) EndedAt: 2024-06-09 16:26:29 -0400 (Sun, 09 Jun 2024) EllapsedTime: 47.4 seconds RetCode: 0 Status: OK