Package: QFeatures Version: 1.14.1 Command: F:\biocbuild\bbs-3.19-bioc\R\bin\R.exe CMD INSTALL QFeatures StartedAt: 2024-06-26 16:19:51 -0400 (Wed, 26 Jun 2024) EndedAt: 2024-06-26 16:20:40 -0400 (Wed, 26 Jun 2024) EllapsedTime: 48.7 seconds RetCode: 0 Status: OK