Package: QSutils Version: 1.22.0 Command: /Library/Frameworks/R.framework/Resources/bin/R CMD build --keep-empty-dirs --no-resave-data QSutils StartedAt: 2024-10-17 06:55:38 -0400 (Thu, 17 Oct 2024) EndedAt: 2024-10-17 06:57:39 -0400 (Thu, 17 Oct 2024) EllapsedTime: 121.4 seconds RetCode: 0 Status: OK PackageFile: QSutils_1.22.0.tar.gz PackageFileSize: 1.318 MiB