Package: QSutils Version: 1.22.0 Command: rm -rf QSutils.buildbin-libdir && mkdir QSutils.buildbin-libdir && /Users/biocbuild/BBS/utils/build-universal.sh QSutils_1.22.0.tar.gz /Library/Frameworks/R.framework/Resources/bin/R QSutils.buildbin-libdir StartedAt: 2024-06-11 12:39:05 -0400 (Tue, 11 Jun 2024) EndedAt: 2024-06-11 12:39:30 -0400 (Tue, 11 Jun 2024) EllapsedTime: 25.5 seconds RetCode: 0 Status: OK PackageFile: QSutils_1.22.0.tgz PackageFileSize: 1.432 MiB