Package: QSutils Version: 1.22.0 Command: /Library/Frameworks/R.framework/Resources/bin/R CMD build --keep-empty-dirs --no-resave-data QSutils StartedAt: 2024-06-10 02:56:30 -0400 (Mon, 10 Jun 2024) EndedAt: 2024-06-10 02:58:57 -0400 (Mon, 10 Jun 2024) EllapsedTime: 146.9 seconds RetCode: 0 Status: OK PackageFile: QSutils_1.22.0.tar.gz PackageFileSize: 1.319 MiB