Package: QSutils Version: 1.22.0 Command: /home/biocbuild/bbs-3.19-bioc/R/bin/R CMD build --keep-empty-dirs --no-resave-data QSutils StartedAt: 2024-10-16 20:15:59 -0400 (Wed, 16 Oct 2024) EndedAt: 2024-10-16 20:17:24 -0400 (Wed, 16 Oct 2024) EllapsedTime: 85.2 seconds RetCode: 0 Status: OK PackageFile: QSutils_1.22.0.tar.gz PackageFileSize: 1.287 MiB