Package: QSutils Version: 1.22.0 Command: /home/biocbuild/bbs-3.19-bioc/R/bin/R CMD INSTALL QSutils StartedAt: 2024-10-16 16:13:34 -0400 (Wed, 16 Oct 2024) EndedAt: 2024-10-16 16:13:45 -0400 (Wed, 16 Oct 2024) EllapsedTime: 10.7 seconds RetCode: 0 Status: OK