Package: QSutils Version: 1.22.0 Command: chmod a+r QSutils -R && E:\biocbuild\bbs-3.19-bioc\R\bin\R.exe CMD build --keep-empty-dirs --no-resave-data QSutils StartedAt: 2024-10-16 21:17:39 -0400 (Wed, 16 Oct 2024) EndedAt: 2024-10-16 21:19:58 -0400 (Wed, 16 Oct 2024) EllapsedTime: 139.0 seconds RetCode: 0 Status: OK PackageFile: QSutils_1.22.0.tar.gz PackageFileSize: 1.101 MiB