Package: QTLExperiment Version: 1.2.0 Command: /Library/Frameworks/R.framework/Resources/bin/R CMD check --install=check:QTLExperiment.install-out.txt --library=/Library/Frameworks/R.framework/Resources/library --no-vignettes --timings QTLExperiment_1.2.0.tar.gz StartedAt: 2024-10-18 08:31:22 -0400 (Fri, 18 Oct 2024) EndedAt: 2024-10-18 08:35:13 -0400 (Fri, 18 Oct 2024) EllapsedTime: 230.6 seconds RetCode: 0 Status: OK CheckDir: QTLExperiment.Rcheck Warnings: 0