Package: QTLExperiment Version: 1.2.0 Command: /Library/Frameworks/R.framework/Resources/bin/R CMD build --keep-empty-dirs --no-resave-data QTLExperiment StartedAt: 2024-06-10 02:57:06 -0400 (Mon, 10 Jun 2024) EndedAt: 2024-06-10 02:58:05 -0400 (Mon, 10 Jun 2024) EllapsedTime: 58.7 seconds RetCode: 0 Status: OK PackageFile: QTLExperiment_1.2.0.tar.gz PackageFileSize: 612.2 KiB