Package: QTLExperiment Version: 1.2.0 Command: /Library/Frameworks/R.framework/Resources/bin/R CMD INSTALL QTLExperiment StartedAt: 2024-06-09 15:17:31 -0400 (Sun, 09 Jun 2024) EndedAt: 2024-06-09 15:18:07 -0400 (Sun, 09 Jun 2024) EllapsedTime: 35.4 seconds RetCode: 0 Status: OK