Package: QTLExperiment Version: 1.2.0 Command: rm -rf QTLExperiment.buildbin-libdir && mkdir QTLExperiment.buildbin-libdir && /Users/biocbuild/BBS/utils/build-universal.sh QTLExperiment_1.2.0.tar.gz /Library/Frameworks/R.framework/Resources/bin/R QTLExperiment.buildbin-libdir StartedAt: 2024-06-10 00:33:40 -0400 (Mon, 10 Jun 2024) EndedAt: 2024-06-10 00:34:18 -0400 (Mon, 10 Jun 2024) EllapsedTime: 37.3 seconds RetCode: 0 Status: OK PackageFile: QTLExperiment_1.2.0.tgz PackageFileSize: 1.123 MiB