Package: QTLExperiment Version: 1.2.0 Command: /Library/Frameworks/R.framework/Resources/bin/R CMD build --keep-empty-dirs --no-resave-data QTLExperiment StartedAt: 2024-10-16 22:19:38 -0400 (Wed, 16 Oct 2024) EndedAt: 2024-10-16 22:21:26 -0400 (Wed, 16 Oct 2024) EllapsedTime: 108.1 seconds RetCode: 0 Status: OK PackageFile: QTLExperiment_1.2.0.tar.gz PackageFileSize: 612.2 KiB