Package: QTLExperiment Version: 1.2.0 Command: /home/biocbuild/bbs-3.19-bioc/R/bin/R CMD build --keep-empty-dirs --no-resave-data QTLExperiment StartedAt: 2024-10-16 20:16:13 -0400 (Wed, 16 Oct 2024) EndedAt: 2024-10-16 20:16:51 -0400 (Wed, 16 Oct 2024) EllapsedTime: 38.1 seconds RetCode: 0 Status: OK PackageFile: QTLExperiment_1.2.0.tar.gz PackageFileSize: 612.3 KiB