Package: QTLExperiment Version: 1.2.0 Command: chmod a+r QTLExperiment -R && F:\biocbuild\bbs-3.19-bioc\R\bin\R.exe CMD build --keep-empty-dirs --no-resave-data QTLExperiment StartedAt: 2024-06-26 21:10:36 -0400 (Wed, 26 Jun 2024) EndedAt: 2024-06-26 21:11:26 -0400 (Wed, 26 Jun 2024) EllapsedTime: 50.3 seconds RetCode: 0 Status: OK PackageFile: QTLExperiment_1.2.0.tar.gz PackageFileSize: 612.3 KiB