Package: QTLExperiment Version: 1.2.0 Command: chmod a+r QTLExperiment -R && E:\biocbuild\bbs-3.19-bioc\R\bin\R.exe CMD build --keep-empty-dirs --no-resave-data QTLExperiment StartedAt: 2024-10-16 21:18:02 -0400 (Wed, 16 Oct 2024) EndedAt: 2024-10-16 21:18:52 -0400 (Wed, 16 Oct 2024) EllapsedTime: 50.2 seconds RetCode: 0 Status: OK PackageFile: QTLExperiment_1.2.0.tar.gz PackageFileSize: 612.3 KiB