Package: QuartPAC Version: 1.36.0 Command: /Library/Frameworks/R.framework/Resources/bin/R CMD build --keep-empty-dirs --no-resave-data QuartPAC StartedAt: 2024-10-17 06:57:22 -0400 (Thu, 17 Oct 2024) EndedAt: 2024-10-17 06:58:32 -0400 (Thu, 17 Oct 2024) EllapsedTime: 69.5 seconds RetCode: 0 Status: OK PackageFile: QuartPAC_1.36.0.tar.gz PackageFileSize: 907.7 KiB