Package: QuartPAC Version: 1.36.0 Command: /Library/Frameworks/R.framework/Resources/bin/R CMD check --install=check:QuartPAC.install-out.txt --library=/Library/Frameworks/R.framework/Resources/library --no-vignettes --timings QuartPAC_1.36.0.tar.gz StartedAt: 2024-10-18 08:33:32 -0400 (Fri, 18 Oct 2024) EndedAt: 2024-10-18 08:37:01 -0400 (Fri, 18 Oct 2024) EllapsedTime: 209.1 seconds RetCode: 1 Status: ERROR CheckDir: QuartPAC.Rcheck Warnings: NA