Package: QuartPAC Version: 1.36.0 Command: rm -rf QuartPAC.buildbin-libdir && mkdir QuartPAC.buildbin-libdir && E:\biocbuild\bbs-3.19-bioc\R\bin\R.exe CMD INSTALL --build --library=QuartPAC.buildbin-libdir QuartPAC_1.36.0.tar.gz StartedAt: 2024-10-17 08:24:42 -0400 (Thu, 17 Oct 2024) EndedAt: 2024-10-17 08:25:06 -0400 (Thu, 17 Oct 2024) EllapsedTime: 24.1 seconds RetCode: 0 Status: OK PackageFile: QuartPAC_1.36.0.zip PackageFileSize: 491.9 KiB