Package: QuartPAC Version: 1.36.0 Command: chmod a+r QuartPAC -R && E:\biocbuild\bbs-3.19-bioc\R\bin\R.exe CMD build --keep-empty-dirs --no-resave-data QuartPAC StartedAt: 2024-10-16 21:18:22 -0400 (Wed, 16 Oct 2024) EndedAt: 2024-10-16 21:19:24 -0400 (Wed, 16 Oct 2024) EllapsedTime: 62.0 seconds RetCode: 0 Status: OK PackageFile: QuartPAC_1.36.0.tar.gz PackageFileSize: 751.7 KiB