Package: QuasR Version: 1.44.0 Command: rm -rf QuasR.buildbin-libdir && mkdir QuasR.buildbin-libdir && /Users/biocbuild/BBS/utils/build-universal.sh QuasR_1.44.0.tar.gz /Library/Frameworks/R.framework/Resources/bin/R QuasR.buildbin-libdir StartedAt: 2024-10-18 20:06:42 -0400 (Fri, 18 Oct 2024) EndedAt: 2024-10-18 20:08:21 -0400 (Fri, 18 Oct 2024) EllapsedTime: 99.3 seconds RetCode: 0 Status: OK PackageFile: QuasR_1.44.0.tgz PackageFileSize: 3.341 MiB