Package: QuasR Version: 1.44.0 Command: /home/biocbuild/R/R-beta-2024-04-15_r86425/bin/R CMD INSTALL QuasR StartedAt: 2024-05-08 20:34:38 -0000 (Wed, 08 May 2024) EndedAt: 2024-05-08 20:36:08 -0000 (Wed, 08 May 2024) EllapsedTime: 90.0 seconds RetCode: 0 Status: OK