Package: QuasR Version: 1.44.0 Command: F:\biocbuild\bbs-3.19-bioc\R\bin\R.exe CMD check --no-multiarch --install=check:QuasR.install-out.txt --library=F:\biocbuild\bbs-3.19-bioc\R\library --no-vignettes --timings QuasR_1.44.0.tar.gz StartedAt: 2024-06-27 05:04:48 -0400 (Thu, 27 Jun 2024) EndedAt: 2024-06-27 05:18:15 -0400 (Thu, 27 Jun 2024) EllapsedTime: 807.9 seconds RetCode: 0 Status: WARNINGS CheckDir: QuasR.Rcheck Warnings: 1