Package: QuasR Version: 1.44.0 Command: F:\biocbuild\bbs-3.19-bioc\R\bin\R.exe CMD INSTALL QuasR StartedAt: 2024-06-26 16:16:29 -0400 (Wed, 26 Jun 2024) EndedAt: 2024-06-26 16:18:21 -0400 (Wed, 26 Jun 2024) EllapsedTime: 111.1 seconds RetCode: 0 Status: OK