Package: QuasR Version: 1.44.0 Command: chmod a+r QuasR -R && E:\biocbuild\bbs-3.19-bioc\R\bin\R.exe CMD build --keep-empty-dirs --no-resave-data QuasR StartedAt: 2024-10-16 21:18:40 -0400 (Wed, 16 Oct 2024) EndedAt: 2024-10-16 21:24:12 -0400 (Wed, 16 Oct 2024) EllapsedTime: 332.2 seconds RetCode: 0 Status: OK PackageFile: QuasR_1.44.0.tar.gz PackageFileSize: 1.75 MiB