Package: R3CPET Version: 1.36.0 Command: E:\biocbuild\bbs-3.19-bioc\R\bin\R.exe CMD check --no-multiarch --install=check:R3CPET.install-out.txt --library=E:\biocbuild\bbs-3.19-bioc\R\library --no-vignettes --timings R3CPET_1.36.0.tar.gz StartedAt: 2024-10-17 04:47:56 -0400 (Thu, 17 Oct 2024) EndedAt: 2024-10-17 04:54:47 -0400 (Thu, 17 Oct 2024) EllapsedTime: 410.4 seconds RetCode: 0 Status: WARNINGS CheckDir: R3CPET.Rcheck Warnings: 1