Package: RBM Version: 1.36.0 Command: /Library/Frameworks/R.framework/Resources/bin/R CMD build --keep-empty-dirs --no-resave-data RBM StartedAt: 2024-10-17 07:13:28 -0400 (Thu, 17 Oct 2024) EndedAt: 2024-10-17 07:14:10 -0400 (Thu, 17 Oct 2024) EllapsedTime: 41.8 seconds RetCode: 0 Status: OK PackageFile: RBM_1.36.0.tar.gz PackageFileSize: 372.4 KiB