Package: RBM Version: 1.36.0 Command: /Library/Frameworks/R.framework/Resources/bin/R CMD check --install=check:RBM.install-out.txt --library=/Library/Frameworks/R.framework/Resources/library --no-vignettes --timings RBM_1.36.0.tar.gz StartedAt: 2024-06-11 02:27:44 -0400 (Tue, 11 Jun 2024) EndedAt: 2024-06-11 02:29:04 -0400 (Tue, 11 Jun 2024) EllapsedTime: 80.3 seconds RetCode: 0 Status: OK CheckDir: RBM.Rcheck Warnings: 0