Package: RBM Version: 1.36.0 Command: /Library/Frameworks/R.framework/Resources/bin/R CMD INSTALL RBM StartedAt: 2024-06-09 15:08:20 -0400 (Sun, 09 Jun 2024) EndedAt: 2024-06-09 15:08:25 -0400 (Sun, 09 Jun 2024) EllapsedTime: 4.4 seconds RetCode: 0 Status: OK