Package: RBM Version: 1.36.0 Command: /home/biocbuild/R/R-beta-2024-04-15_r86425/bin/R CMD check --install=check:RBM.install-out.txt --library=/home/biocbuild/R/R-beta-2024-04-15_r86425/site-library --no-vignettes --timings RBM_1.36.0.tar.gz StartedAt: 2024-05-09 10:59:38 -0000 (Thu, 09 May 2024) EndedAt: 2024-05-09 11:00:29 -0000 (Thu, 09 May 2024) EllapsedTime: 51.1 seconds RetCode: 0 Status: OK CheckDir: RBM.Rcheck Warnings: 0