Package: RBM Version: 1.36.0 Command: /Library/Frameworks/R.framework/Resources/bin/R CMD build --keep-empty-dirs --no-resave-data RBM StartedAt: 2024-06-09 17:51:02 -0400 (Sun, 09 Jun 2024) EndedAt: 2024-06-09 17:51:38 -0400 (Sun, 09 Jun 2024) EllapsedTime: 36.0 seconds RetCode: 0 Status: OK PackageFile: RBM_1.36.0.tar.gz PackageFileSize: 369.9 KiB