Package: RBM Version: 1.36.0 Command: rm -rf RBM.buildbin-libdir && mkdir RBM.buildbin-libdir && /Users/biocbuild/BBS/utils/build-universal.sh RBM_1.36.0.tar.gz /Library/Frameworks/R.framework/Resources/bin/R RBM.buildbin-libdir StartedAt: 2024-10-17 16:56:16 -0400 (Thu, 17 Oct 2024) EndedAt: 2024-10-17 16:56:24 -0400 (Thu, 17 Oct 2024) EllapsedTime: 7.5 seconds RetCode: 0 Status: OK PackageFile: RBM_1.36.0.tgz PackageFileSize: 395 KiB