Package: RBM Version: 1.36.0 Command: /home/biocbuild/bbs-3.19-bioc/R/bin/R CMD build --keep-empty-dirs --no-resave-data RBM StartedAt: 2024-10-16 20:19:44 -0400 (Wed, 16 Oct 2024) EndedAt: 2024-10-16 20:20:13 -0400 (Wed, 16 Oct 2024) EllapsedTime: 29.1 seconds RetCode: 0 Status: OK PackageFile: RBM_1.36.0.tar.gz PackageFileSize: 246.2 KiB