Package: RBM Version: 1.36.0 Command: rm -rf RBM.buildbin-libdir && mkdir RBM.buildbin-libdir && E:\biocbuild\bbs-3.19-bioc\R\bin\R.exe CMD INSTALL --build --library=RBM.buildbin-libdir RBM_1.36.0.tar.gz StartedAt: 2024-10-17 08:25:53 -0400 (Thu, 17 Oct 2024) EndedAt: 2024-10-17 08:26:03 -0400 (Thu, 17 Oct 2024) EllapsedTime: 10.4 seconds RetCode: 0 Status: OK PackageFile: RBM_1.36.0.zip PackageFileSize: 272.5 KiB