Package: RBM Version: 1.36.0 Command: E:\biocbuild\bbs-3.19-bioc\R\bin\R.exe CMD INSTALL RBM StartedAt: 2024-10-16 16:06:13 -0400 (Wed, 16 Oct 2024) EndedAt: 2024-10-16 16:06:20 -0400 (Wed, 16 Oct 2024) EllapsedTime: 7.3 seconds RetCode: 0 Status: OK