Package: RCASPAR Version: 1.50.0 Maintainer: Douaa Mugahid , Lars Kaderali MaintainerEmail: lars.kaderali at uni-greifswald.de git_url: https://git.bioconductor.org/packages/RCASPAR git_branch: RELEASE_3_19 git_last_commit: f584c5a git_last_commit_date: 2024-04-30 10:24:35 -0400 (Tue, 30 Apr 2024)