Package: RCASPAR Version: 1.50.0 Command: /Library/Frameworks/R.framework/Resources/bin/R CMD check --install=check:RCASPAR.install-out.txt --library=/Library/Frameworks/R.framework/Resources/library --no-vignettes --timings RCASPAR_1.50.0.tar.gz StartedAt: 2024-06-11 02:29:55 -0400 (Tue, 11 Jun 2024) EndedAt: 2024-06-11 02:30:41 -0400 (Tue, 11 Jun 2024) EllapsedTime: 45.8 seconds RetCode: 0 Status: OK CheckDir: RCASPAR.Rcheck Warnings: 0