Package: RCASPAR Version: 1.50.0 Command: /Library/Frameworks/R.framework/Resources/bin/R CMD check --install=check:RCASPAR.install-out.txt --library=/Library/Frameworks/R.framework/Resources/library --no-vignettes --timings RCASPAR_1.50.0.tar.gz StartedAt: 2024-06-09 22:29:27 -0400 (Sun, 09 Jun 2024) EndedAt: 2024-06-09 22:29:59 -0400 (Sun, 09 Jun 2024) EllapsedTime: 31.8 seconds RetCode: 0 Status: OK CheckDir: RCASPAR.Rcheck Warnings: 0