Package: RCASPAR Version: 1.50.0 Command: /home/biocbuild/bbs-3.19-bioc/R/bin/R CMD INSTALL RCASPAR StartedAt: 2024-10-16 15:52:00 -0400 (Wed, 16 Oct 2024) EndedAt: 2024-10-16 15:52:10 -0400 (Wed, 16 Oct 2024) EllapsedTime: 9.6 seconds RetCode: 0 Status: OK