Package: RCASPAR Version: 1.50.0 Command: rm -rf RCASPAR.buildbin-libdir && mkdir RCASPAR.buildbin-libdir && F:\biocbuild\bbs-3.19-bioc\R\bin\R.exe CMD INSTALL --build --library=RCASPAR.buildbin-libdir RCASPAR_1.50.0.tar.gz StartedAt: 2024-06-27 08:45:00 -0400 (Thu, 27 Jun 2024) EndedAt: 2024-06-27 08:45:18 -0400 (Thu, 27 Jun 2024) EllapsedTime: 17.3 seconds RetCode: 0 Status: OK PackageFile: RCASPAR_1.50.0.zip PackageFileSize: 279.8 KiB