Package: RCM Version: 1.20.0 Command: rm -rf RCM.buildbin-libdir && mkdir RCM.buildbin-libdir && /Users/biocbuild/BBS/utils/build-universal.sh RCM_1.20.0.tar.gz /Library/Frameworks/R.framework/Resources/bin/R RCM.buildbin-libdir StartedAt: 2024-10-18 20:10:45 -0400 (Fri, 18 Oct 2024) EndedAt: 2024-10-18 20:11:20 -0400 (Fri, 18 Oct 2024) EllapsedTime: 35.4 seconds RetCode: 0 Status: OK PackageFile: RCM_1.20.0.tgz PackageFileSize: 5.055 MiB