Package: RCM Version: 1.20.0 Command: /Library/Frameworks/R.framework/Resources/bin/R CMD build --keep-empty-dirs --no-resave-data RCM StartedAt: 2024-10-17 07:16:52 -0400 (Thu, 17 Oct 2024) EndedAt: 2024-10-17 07:17:59 -0400 (Thu, 17 Oct 2024) EllapsedTime: 66.2 seconds RetCode: 0 Status: OK PackageFile: RCM_1.20.0.tar.gz PackageFileSize: 4.821 MiB